BEGIN:VCALENDAR
VERSION:2.0
PRODID:-//FC Den Duiker - ECPv6.2.8.2//NONSGML v1.0//EN
CALSCALE:GREGORIAN
METHOD:PUBLISH
X-ORIGINAL-URL:https://denduiker.nl
X-WR-CALDESC:Evenementen voor FC Den Duiker
REFRESH-INTERVAL;VALUE=DURATION:PT1H
X-Robots-Tag:noindex
X-PUBLISHED-TTL:PT1H
BEGIN:VTIMEZONE
TZID:UTC
BEGIN:STANDARD
TZOFFSETFROM:+0000
TZOFFSETTO:+0000
TZNAME:UTC
DTSTART:20240101T000000
END:STANDARD
END:VTIMEZONE
BEGIN:VEVENT
DTSTART;TZID=UTC:20240401T090000
DTEND;TZID=UTC:20240401T140000
DTSTAMP:20260422T100714
CREATED:20240319T185548Z
LAST-MODIFIED:20240319T193316Z
UID:1790-1711962000-1711980000@denduiker.nl
SUMMARY:Route 10/ Scheulder- Ransdaal
DESCRIPTION:50 km – 332 hm
URL:https://denduiker.nl/event/route-10-scheulder-ransdaal/
CATEGORIES:Maandag
ATTACH;FMTTYPE=image/png:https://denduiker.nl/wp-content/uploads/2024/03/Scheulder-Ransdaal-1.png
END:VEVENT
END:VCALENDAR