BEGIN:VCALENDAR
VERSION:2.0
PRODID:-//FC Den Duiker - ECPv6.2.8.2//NONSGML v1.0//EN
CALSCALE:GREGORIAN
METHOD:PUBLISH
X-ORIGINAL-URL:https://denduiker.nl
X-WR-CALDESC:Evenementen voor FC Den Duiker
REFRESH-INTERVAL;VALUE=DURATION:PT1H
X-Robots-Tag:noindex
X-PUBLISHED-TTL:PT1H
BEGIN:VTIMEZONE
TZID:UTC
BEGIN:STANDARD
TZOFFSETFROM:+0000
TZOFFSETTO:+0000
TZNAME:UTC
DTSTART:20240101T000000
END:STANDARD
END:VTIMEZONE
BEGIN:VEVENT
DTSTART;TZID=UTC:20240423T183000
DTEND;TZID=UTC:20240423T183000
DTSTAMP:20260422T100714
CREATED:20230724T090442Z
LAST-MODIFIED:20240319T204559Z
UID:1586-1713897000-1713897000@denduiker.nl
SUMMARY:Lochtroute
DESCRIPTION:47 km – 349 hm
URL:https://denduiker.nl/event/lochtroute/
CATEGORIES:Dinsdag
ATTACH;FMTTYPE=image/jpeg:https://denduiker.nl/wp-content/uploads/2023/05/locht_dinsdag.jpeg
END:VEVENT
END:VCALENDAR