BEGIN:VCALENDAR
VERSION:2.0
PRODID:-//FC Den Duiker - ECPv6.2.8.2//NONSGML v1.0//EN
CALSCALE:GREGORIAN
METHOD:PUBLISH
X-ORIGINAL-URL:https://denduiker.nl
X-WR-CALDESC:Evenementen voor FC Den Duiker
REFRESH-INTERVAL;VALUE=DURATION:PT1H
X-Robots-Tag:noindex
X-PUBLISHED-TTL:PT1H
BEGIN:VTIMEZONE
TZID:UTC
BEGIN:STANDARD
TZOFFSETFROM:+0000
TZOFFSETTO:+0000
TZNAME:UTC
DTSTART:20240101T000000
END:STANDARD
END:VTIMEZONE
BEGIN:VEVENT
DTSTART;TZID=UTC:20240521T183000
DTEND;TZID=UTC:20240521T213000
DTSTAMP:20260422T084026
CREATED:20230724T093335Z
LAST-MODIFIED:20240319T200958Z
UID:1603-1716316200-1716327000@denduiker.nl
SUMMARY:Krijtland
DESCRIPTION:A 57 km – 560 hm en B 57 km – 513 hm
URL:https://denduiker.nl/event/krijtland/
CATEGORIES:Dinsdag
ATTACH;FMTTYPE=image/jpeg:https://denduiker.nl/wp-content/uploads/2023/10/krijtland_route.jpg
END:VEVENT
END:VCALENDAR