BEGIN:VCALENDAR
VERSION:2.0
PRODID:-//FC Den Duiker - ECPv6.2.8.2//NONSGML v1.0//EN
CALSCALE:GREGORIAN
METHOD:PUBLISH
X-ORIGINAL-URL:https://denduiker.nl
X-WR-CALDESC:Evenementen voor FC Den Duiker
REFRESH-INTERVAL;VALUE=DURATION:PT1H
X-Robots-Tag:noindex
X-PUBLISHED-TTL:PT1H
BEGIN:VTIMEZONE
TZID:UTC
BEGIN:STANDARD
TZOFFSETFROM:+0000
TZOFFSETTO:+0000
TZNAME:UTC
DTSTART:20240101T000000
END:STANDARD
END:VTIMEZONE
BEGIN:VEVENT
DTSTART;TZID=UTC:20240604T183000
DTEND;TZID=UTC:20240604T213000
DTSTAMP:20260422T071313
CREATED:20230724T094425Z
LAST-MODIFIED:20240319T201556Z
UID:1615-1717525800-1717536600@denduiker.nl
SUMMARY:Grindgroeve
DESCRIPTION:A 65 km – 605 hm en B 58 km – 431 hm
URL:https://denduiker.nl/event/grindgroeve/
CATEGORIES:Dinsdag
ATTACH;FMTTYPE=image/jpeg:https://denduiker.nl/wp-content/uploads/2023/10/grindgroeve_route.jpg
END:VEVENT
END:VCALENDAR