BEGIN:VCALENDAR
VERSION:2.0
PRODID:-//FC Den Duiker - ECPv6.2.8.2//NONSGML v1.0//EN
CALSCALE:GREGORIAN
METHOD:PUBLISH
X-ORIGINAL-URL:https://denduiker.nl
X-WR-CALDESC:Evenementen voor FC Den Duiker
REFRESH-INTERVAL;VALUE=DURATION:PT1H
X-Robots-Tag:noindex
X-PUBLISHED-TTL:PT1H
BEGIN:VTIMEZONE
TZID:UTC
BEGIN:STANDARD
TZOFFSETFROM:+0000
TZOFFSETTO:+0000
TZNAME:UTC
DTSTART:20240101T000000
END:STANDARD
END:VTIMEZONE
BEGIN:VEVENT
DTSTART;TZID=UTC:20240910T183000
DTEND;TZID=UTC:20240910T213000
DTSTAMP:20260422T023511
CREATED:20230724T102513Z
LAST-MODIFIED:20240319T212441Z
UID:1660-1725993000-1726003800@denduiker.nl
SUMMARY:Airport route
DESCRIPTION:34 km – 485 hm
URL:https://denduiker.nl/event/airport-route/
CATEGORIES:Dinsdag
ATTACH;FMTTYPE=image/png:https://denduiker.nl/wp-content/uploads/2023/07/Airport-route.png
END:VEVENT
END:VCALENDAR