BEGIN:VCALENDAR
VERSION:2.0
PRODID:-//FC Den Duiker - ECPv6.2.8.2//NONSGML v1.0//EN
CALSCALE:GREGORIAN
METHOD:PUBLISH
X-ORIGINAL-URL:https://denduiker.nl
X-WR-CALDESC:Evenementen voor FC Den Duiker
REFRESH-INTERVAL;VALUE=DURATION:PT1H
X-Robots-Tag:noindex
X-PUBLISHED-TTL:PT1H
BEGIN:VTIMEZONE
TZID:UTC
BEGIN:STANDARD
TZOFFSETFROM:+0000
TZOFFSETTO:+0000
TZNAME:UTC
DTSTART:20240101T000000
END:STANDARD
END:VTIMEZONE
BEGIN:VEVENT
DTSTART;TZID=UTC:20240917T183000
DTEND;TZID=UTC:20240917T213000
DTSTAMP:20260422T023452
CREATED:20230724T102820Z
LAST-MODIFIED:20240319T204406Z
UID:1666-1726597800-1726608600@denduiker.nl
SUMMARY:Sluitingsrit
DESCRIPTION:27 km – 60 hm
URL:https://denduiker.nl/event/sluitingsrit/
CATEGORIES:Dinsdag
ATTACH;FMTTYPE=image/jpeg:https://denduiker.nl/wp-content/uploads/2023/10/sluitingsrit.jpg
END:VEVENT
END:VCALENDAR