BEGIN:VCALENDAR
VERSION:2.0
PRODID:-//FC Den Duiker - ECPv6.2.8.2//NONSGML v1.0//EN
CALSCALE:GREGORIAN
METHOD:PUBLISH
X-ORIGINAL-URL:https://denduiker.nl
X-WR-CALDESC:Evenementen voor FC Den Duiker
REFRESH-INTERVAL;VALUE=DURATION:PT1H
X-Robots-Tag:noindex
X-PUBLISHED-TTL:PT1H
BEGIN:VTIMEZONE
TZID:UTC
BEGIN:STANDARD
TZOFFSETFROM:+0000
TZOFFSETTO:+0000
TZNAME:UTC
DTSTART:20240101T000000
END:STANDARD
END:VTIMEZONE
BEGIN:VEVENT
DTSTART;TZID=UTC:20240602T093000
DTEND;TZID=UTC:20240602T140000
DTSTAMP:20260422T125802
CREATED:20240319T201303Z
LAST-MODIFIED:20240319T211214Z
UID:1814-1717320600-1717336800@denduiker.nl
SUMMARY:Vrije rit
DESCRIPTION:
URL:https://denduiker.nl/event/vrije-rit-4/
CATEGORIES:Zondag
ATTACH;FMTTYPE=image/png:https://denduiker.nl/wp-content/uploads/2024/03/Vrije-rit.png
END:VEVENT
BEGIN:VEVENT
DTSTART;TZID=UTC:20240609T090000
DTEND;TZID=UTC:20240609T130000
DTSTAMP:20260422T125802
CREATED:20230724T093703Z
LAST-MODIFIED:20240319T201644Z
UID:1605-1717923600-1717938000@denduiker.nl
SUMMARY:Le pont Argenteau
DESCRIPTION:68 km – 665 hm
URL:https://denduiker.nl/event/le-pont-argenteau/
CATEGORIES:Zondag
ATTACH;FMTTYPE=image/jpeg:https://denduiker.nl/wp-content/uploads/2023/10/pont_argenteau.jpg
END:VEVENT
BEGIN:VEVENT
DTSTART;TZID=UTC:20240616T090000
DTEND;TZID=UTC:20240616T150000
DTSTAMP:20260422T125802
CREATED:20240319T201851Z
LAST-MODIFIED:20240319T212053Z
UID:1816-1718528400-1718550000@denduiker.nl
SUMMARY:CHRONO
DESCRIPTION:
URL:https://denduiker.nl/event/chrono/
CATEGORIES:Zondag
ATTACH;FMTTYPE=image/png:https://denduiker.nl/wp-content/uploads/2024/03/Chrono.png
END:VEVENT
BEGIN:VEVENT
DTSTART;TZID=UTC:20240623T090000
DTEND;TZID=UTC:20240623T130000
DTSTAMP:20260422T125802
CREATED:20230724T100501Z
LAST-MODIFIED:20240319T202054Z
UID:1627-1719133200-1719147600@denduiker.nl
SUMMARY:Gebochelde
DESCRIPTION:76 km – 896 hm
URL:https://denduiker.nl/event/gebochelde/
CATEGORIES:Zondag
ATTACH;FMTTYPE=image/jpeg:https://denduiker.nl/wp-content/uploads/2023/07/gebochelde.jpg
END:VEVENT
BEGIN:VEVENT
DTSTART;TZID=UTC:20240630T093000
DTEND;TZID=UTC:20240630T130000
DTSTAMP:20260422T125802
CREATED:20240319T202210Z
LAST-MODIFIED:20240319T211147Z
UID:1818-1719739800-1719752400@denduiker.nl
SUMMARY:Vrije rit
DESCRIPTION:
URL:https://denduiker.nl/event/vrije-rit-5/
CATEGORIES:Zondag
ATTACH;FMTTYPE=image/png:https://denduiker.nl/wp-content/uploads/2024/03/Vrije-rit.png
END:VEVENT
END:VCALENDAR