BEGIN:VCALENDAR
VERSION:2.0
PRODID:-//FC Den Duiker - ECPv6.2.8.2//NONSGML v1.0//EN
CALSCALE:GREGORIAN
METHOD:PUBLISH
X-ORIGINAL-URL:https://denduiker.nl
X-WR-CALDESC:Evenementen voor FC Den Duiker
REFRESH-INTERVAL;VALUE=DURATION:PT1H
X-Robots-Tag:noindex
X-PUBLISHED-TTL:PT1H
BEGIN:VTIMEZONE
TZID:UTC
BEGIN:STANDARD
TZOFFSETFROM:+0000
TZOFFSETTO:+0000
TZNAME:UTC
DTSTART:20240101T000000
END:STANDARD
END:VTIMEZONE
BEGIN:VEVENT
DTSTART;TZID=UTC:20240707T080000
DTEND;TZID=UTC:20240707T130000
DTSTAMP:20260422T114142
CREATED:20230724T102006Z
LAST-MODIFIED:20240319T202600Z
UID:1650-1720339200-1720357200@denduiker.nl
SUMMARY:Banneux
DESCRIPTION:102 km – 1018 hm
URL:https://denduiker.nl/event/banneux/
CATEGORIES:Zondag
ATTACH;FMTTYPE=image/jpeg:https://denduiker.nl/wp-content/uploads/2023/10/banneux.jpg
END:VEVENT
BEGIN:VEVENT
DTSTART;TZID=UTC:20240714T093000
DTEND;TZID=UTC:20240714T140000
DTSTAMP:20260422T114142
CREATED:20240319T202741Z
LAST-MODIFIED:20240319T211130Z
UID:1821-1720949400-1720965600@denduiker.nl
SUMMARY:Vrije rit
DESCRIPTION:
URL:https://denduiker.nl/event/vrije-rit-6/
CATEGORIES:Zondag
ATTACH;FMTTYPE=image/png:https://denduiker.nl/wp-content/uploads/2024/03/Vrije-rit.png
END:VEVENT
BEGIN:VEVENT
DTSTART;TZID=UTC:20240721T090000
DTEND;TZID=UTC:20240721T130000
DTSTAMP:20260422T114142
CREATED:20230724T101248Z
LAST-MODIFIED:20240319T202905Z
UID:1638-1721552400-1721566800@denduiker.nl
SUMMARY:Jokerstour
DESCRIPTION:80 km – 890 hm
URL:https://denduiker.nl/event/jokerstour/
CATEGORIES:Zondag
ATTACH;FMTTYPE=image/jpeg:https://denduiker.nl/wp-content/uploads/2023/10/jokerstour.jpg
END:VEVENT
BEGIN:VEVENT
DTSTART;TZID=UTC:20240728T093000
DTEND;TZID=UTC:20240728T140000
DTSTAMP:20260422T114142
CREATED:20240319T203023Z
LAST-MODIFIED:20240319T211108Z
UID:1823-1722159000-1722175200@denduiker.nl
SUMMARY:Vrije rit
DESCRIPTION:
URL:https://denduiker.nl/event/vrije-rit-7/
CATEGORIES:Zondag
ATTACH;FMTTYPE=image/png:https://denduiker.nl/wp-content/uploads/2024/03/Vrije-rit.png
END:VEVENT
END:VCALENDAR