BEGIN:VCALENDAR
VERSION:2.0
PRODID:-//FC Den Duiker - ECPv6.2.8.2//NONSGML v1.0//EN
CALSCALE:GREGORIAN
METHOD:PUBLISH
X-ORIGINAL-URL:https://denduiker.nl
X-WR-CALDESC:Evenementen voor FC Den Duiker
REFRESH-INTERVAL;VALUE=DURATION:PT1H
X-Robots-Tag:noindex
X-PUBLISHED-TTL:PT1H
BEGIN:VTIMEZONE
TZID:UTC
BEGIN:STANDARD
TZOFFSETFROM:+0000
TZOFFSETTO:+0000
TZNAME:UTC
DTSTART:20240101T000000
END:STANDARD
END:VTIMEZONE
BEGIN:VEVENT
DTSTART;TZID=UTC:20240428T090000
DTEND;TZID=UTC:20240428T130000
DTSTAMP:20260422T204155
CREATED:20230724T090003Z
LAST-MODIFIED:20240319T195513Z
UID:1582-1714294800-1714309200@denduiker.nl
SUMMARY:Heidetocht
DESCRIPTION:66 km – 433 hm
URL:https://denduiker.nl/event/heidetocht/
CATEGORIES:Zondag
ATTACH;FMTTYPE=image/jpeg:https://denduiker.nl/wp-content/uploads/2023/04/heidetocht.jpg
END:VEVENT
BEGIN:VEVENT
DTSTART;TZID=UTC:20240505T093000
DTEND;TZID=UTC:20240505T140000
DTSTAMP:20260422T204155
CREATED:20240319T195714Z
LAST-MODIFIED:20240319T211405Z
UID:1808-1714901400-1714917600@denduiker.nl
SUMMARY:Vrije rit
DESCRIPTION:
URL:https://denduiker.nl/event/1808/
CATEGORIES:Zondag
ATTACH;FMTTYPE=image/png:https://denduiker.nl/wp-content/uploads/2024/03/Vrije-rit.png
END:VEVENT
BEGIN:VEVENT
DTSTART;TZID=UTC:20240512T090000
DTEND;TZID=UTC:20240512T130000
DTSTAMP:20260422T204155
CREATED:20230724T090827Z
LAST-MODIFIED:20240319T200238Z
UID:1588-1715504400-1715518800@denduiker.nl
SUMMARY:Schoonbeek
DESCRIPTION:65 km – 653 hm
URL:https://denduiker.nl/event/schoonbeek/
CATEGORIES:Zondag
ATTACH;FMTTYPE=image/jpeg:https://denduiker.nl/wp-content/uploads/2023/05/schoonbeek_route.jpg
END:VEVENT
BEGIN:VEVENT
DTSTART;TZID=UTC:20240526T090000
DTEND;TZID=UTC:20240526T130000
DTSTAMP:20260422T204155
CREATED:20230724T092223Z
LAST-MODIFIED:20240319T201038Z
UID:1596-1716714000-1716728400@denduiker.nl
SUMMARY:Latinroute
DESCRIPTION:71 km – 606 hm
URL:https://denduiker.nl/event/latinroute/
CATEGORIES:Zondag
ATTACH;FMTTYPE=image/jpeg:https://denduiker.nl/wp-content/uploads/2023/10/latin_route.jpg
END:VEVENT
BEGIN:VEVENT
DTSTART;TZID=UTC:20240602T093000
DTEND;TZID=UTC:20240602T140000
DTSTAMP:20260422T204155
CREATED:20240319T201303Z
LAST-MODIFIED:20240319T211214Z
UID:1814-1717320600-1717336800@denduiker.nl
SUMMARY:Vrije rit
DESCRIPTION:
URL:https://denduiker.nl/event/vrije-rit-4/
CATEGORIES:Zondag
ATTACH;FMTTYPE=image/png:https://denduiker.nl/wp-content/uploads/2024/03/Vrije-rit.png
END:VEVENT
BEGIN:VEVENT
DTSTART;TZID=UTC:20240609T090000
DTEND;TZID=UTC:20240609T130000
DTSTAMP:20260422T204155
CREATED:20230724T093703Z
LAST-MODIFIED:20240319T201644Z
UID:1605-1717923600-1717938000@denduiker.nl
SUMMARY:Le pont Argenteau
DESCRIPTION:68 km – 665 hm
URL:https://denduiker.nl/event/le-pont-argenteau/
CATEGORIES:Zondag
ATTACH;FMTTYPE=image/jpeg:https://denduiker.nl/wp-content/uploads/2023/10/pont_argenteau.jpg
END:VEVENT
BEGIN:VEVENT
DTSTART;TZID=UTC:20240616T090000
DTEND;TZID=UTC:20240616T150000
DTSTAMP:20260422T204155
CREATED:20240319T201851Z
LAST-MODIFIED:20240319T212053Z
UID:1816-1718528400-1718550000@denduiker.nl
SUMMARY:CHRONO
DESCRIPTION:
URL:https://denduiker.nl/event/chrono/
CATEGORIES:Zondag
ATTACH;FMTTYPE=image/png:https://denduiker.nl/wp-content/uploads/2024/03/Chrono.png
END:VEVENT
BEGIN:VEVENT
DTSTART;TZID=UTC:20240623T090000
DTEND;TZID=UTC:20240623T130000
DTSTAMP:20260422T204155
CREATED:20230724T100501Z
LAST-MODIFIED:20240319T202054Z
UID:1627-1719133200-1719147600@denduiker.nl
SUMMARY:Gebochelde
DESCRIPTION:76 km – 896 hm
URL:https://denduiker.nl/event/gebochelde/
CATEGORIES:Zondag
ATTACH;FMTTYPE=image/jpeg:https://denduiker.nl/wp-content/uploads/2023/07/gebochelde.jpg
END:VEVENT
BEGIN:VEVENT
DTSTART;TZID=UTC:20240630T093000
DTEND;TZID=UTC:20240630T130000
DTSTAMP:20260422T204155
CREATED:20240319T202210Z
LAST-MODIFIED:20240319T211147Z
UID:1818-1719739800-1719752400@denduiker.nl
SUMMARY:Vrije rit
DESCRIPTION:
URL:https://denduiker.nl/event/vrije-rit-5/
CATEGORIES:Zondag
ATTACH;FMTTYPE=image/png:https://denduiker.nl/wp-content/uploads/2024/03/Vrije-rit.png
END:VEVENT
BEGIN:VEVENT
DTSTART;TZID=UTC:20240707T080000
DTEND;TZID=UTC:20240707T130000
DTSTAMP:20260422T204155
CREATED:20230724T102006Z
LAST-MODIFIED:20240319T202600Z
UID:1650-1720339200-1720357200@denduiker.nl
SUMMARY:Banneux
DESCRIPTION:102 km – 1018 hm
URL:https://denduiker.nl/event/banneux/
CATEGORIES:Zondag
ATTACH;FMTTYPE=image/jpeg:https://denduiker.nl/wp-content/uploads/2023/10/banneux.jpg
END:VEVENT
BEGIN:VEVENT
DTSTART;TZID=UTC:20240714T093000
DTEND;TZID=UTC:20240714T140000
DTSTAMP:20260422T204155
CREATED:20240319T202741Z
LAST-MODIFIED:20240319T211130Z
UID:1821-1720949400-1720965600@denduiker.nl
SUMMARY:Vrije rit
DESCRIPTION:
URL:https://denduiker.nl/event/vrije-rit-6/
CATEGORIES:Zondag
ATTACH;FMTTYPE=image/png:https://denduiker.nl/wp-content/uploads/2024/03/Vrije-rit.png
END:VEVENT
BEGIN:VEVENT
DTSTART;TZID=UTC:20240721T090000
DTEND;TZID=UTC:20240721T130000
DTSTAMP:20260422T204155
CREATED:20230724T101248Z
LAST-MODIFIED:20240319T202905Z
UID:1638-1721552400-1721566800@denduiker.nl
SUMMARY:Jokerstour
DESCRIPTION:80 km – 890 hm
URL:https://denduiker.nl/event/jokerstour/
CATEGORIES:Zondag
ATTACH;FMTTYPE=image/jpeg:https://denduiker.nl/wp-content/uploads/2023/10/jokerstour.jpg
END:VEVENT
BEGIN:VEVENT
DTSTART;TZID=UTC:20240728T093000
DTEND;TZID=UTC:20240728T140000
DTSTAMP:20260422T204155
CREATED:20240319T203023Z
LAST-MODIFIED:20240319T211108Z
UID:1823-1722159000-1722175200@denduiker.nl
SUMMARY:Vrije rit
DESCRIPTION:
URL:https://denduiker.nl/event/vrije-rit-7/
CATEGORIES:Zondag
ATTACH;FMTTYPE=image/png:https://denduiker.nl/wp-content/uploads/2024/03/Vrije-rit.png
END:VEVENT
BEGIN:VEVENT
DTSTART;TZID=UTC:20240804T090000
DTEND;TZID=UTC:20240804T130000
DTSTAMP:20260422T204155
CREATED:20230724T100726Z
LAST-MODIFIED:20240319T203352Z
UID:1632-1722762000-1722776400@denduiker.nl
SUMMARY:Bokkerijders
DESCRIPTION:91 km – 826 hm
URL:https://denduiker.nl/event/bokkerijders/
CATEGORIES:Zondag
ATTACH;FMTTYPE=image/jpeg:https://denduiker.nl/wp-content/uploads/2023/10/bokkerijders.jpg
END:VEVENT
BEGIN:VEVENT
DTSTART;TZID=UTC:20240811T093000
DTEND;TZID=UTC:20240811T140000
DTSTAMP:20260422T204155
CREATED:20240319T205059Z
LAST-MODIFIED:20240319T211055Z
UID:1827-1723368600-1723384800@denduiker.nl
SUMMARY:Vrije rit
DESCRIPTION:
URL:https://denduiker.nl/event/vrije-rit-8/
CATEGORIES:Zondag
ATTACH;FMTTYPE=image/png:https://denduiker.nl/wp-content/uploads/2024/03/Vrije-rit.png
END:VEVENT
BEGIN:VEVENT
DTSTART;TZID=UTC:20240818T080000
DTEND;TZID=UTC:20240818T140000
DTSTAMP:20260422T204155
CREATED:20230724T102156Z
LAST-MODIFIED:20240319T203636Z
UID:1654-1723968000-1723989600@denduiker.nl
SUMMARY:Baraqua Michel
DESCRIPTION:108 km – 1150 hm
URL:https://denduiker.nl/event/baraqua-michel/
CATEGORIES:Zondag
ATTACH;FMTTYPE=image/jpeg:https://denduiker.nl/wp-content/uploads/2023/10/baraque_michel_route.jpg
END:VEVENT
BEGIN:VEVENT
DTSTART;TZID=UTC:20240825T130000
DTEND;TZID=UTC:20240825T170000
DTSTAMP:20260422T204155
CREATED:20240319T203918Z
LAST-MODIFIED:20240319T221318Z
UID:1825-1724590800-1724605200@denduiker.nl
SUMMARY:Tour de Frans
DESCRIPTION:
URL:https://denduiker.nl/event/tour-de-frans/
CATEGORIES:Zondag
ATTACH;FMTTYPE=image/png:https://denduiker.nl/wp-content/uploads/2024/03/Tour-de-Frans.png
END:VEVENT
BEGIN:VEVENT
DTSTART;TZID=UTC:20240901T090000
DTEND;TZID=UTC:20240901T130000
DTSTAMP:20260422T204155
CREATED:20230724T102908Z
LAST-MODIFIED:20240319T204036Z
UID:1668-1725181200-1725195600@denduiker.nl
SUMMARY:Route Limbourg
DESCRIPTION:68 km – 550 hm
URL:https://denduiker.nl/event/route-limbourg/
CATEGORIES:Zondag
ATTACH;FMTTYPE=image/jpeg:https://denduiker.nl/wp-content/uploads/2023/10/route_limbourg.jpg
END:VEVENT
BEGIN:VEVENT
DTSTART;TZID=UTC:20240915T090000
DTEND;TZID=UTC:20240915T130000
DTSTAMP:20260422T204155
CREATED:20230724T102947Z
LAST-MODIFIED:20240319T204328Z
UID:1670-1726390800-1726405200@denduiker.nl
SUMMARY:Stoomtrein
DESCRIPTION:62 km – 490 hm
URL:https://denduiker.nl/event/stoomtrein/
CATEGORIES:Zondag
ATTACH;FMTTYPE=image/jpeg:https://denduiker.nl/wp-content/uploads/2023/10/stoomtrein_route.jpg
END:VEVENT
BEGIN:VEVENT
DTSTART;TZID=UTC:20240922T093000
DTEND;TZID=UTC:20240922T140000
DTSTAMP:20260422T204155
CREATED:20240319T205208Z
LAST-MODIFIED:20240319T211041Z
UID:1831-1726997400-1727013600@denduiker.nl
SUMMARY:Vrije rit
DESCRIPTION:
URL:https://denduiker.nl/event/vrije-rit-10/
CATEGORIES:Zondag
ATTACH;FMTTYPE=image/png:https://denduiker.nl/wp-content/uploads/2024/03/Vrije-rit.png
END:VEVENT
BEGIN:VEVENT
DTSTART;TZID=UTC:20240929T090000
DTEND;TZID=UTC:20240929T130000
DTSTAMP:20260422T204155
CREATED:20230724T102601Z
LAST-MODIFIED:20240319T204454Z
UID:1662-1727600400-1727614800@denduiker.nl
SUMMARY:Hagelstein
DESCRIPTION:66 km – 420 hm
URL:https://denduiker.nl/event/hagelstein/
CATEGORIES:Zondag
ATTACH;FMTTYPE=image/jpeg:https://denduiker.nl/wp-content/uploads/2023/10/hagelstein.jpg
END:VEVENT
BEGIN:VEVENT
DTSTART;TZID=UTC:20241006T093000
DTEND;TZID=UTC:20241006T140000
DTSTAMP:20260422T204155
CREATED:20240319T205132Z
LAST-MODIFIED:20240319T211029Z
UID:1829-1728207000-1728223200@denduiker.nl
SUMMARY:Vrije rit
DESCRIPTION:
URL:https://denduiker.nl/event/vrije-rit-9/
CATEGORIES:Zondag
ATTACH;FMTTYPE=image/png:https://denduiker.nl/wp-content/uploads/2024/03/Vrije-rit.png
END:VEVENT
BEGIN:VEVENT
DTSTART;TZID=UTC:20241013T093000
DTEND;TZID=UTC:20241013T140000
DTSTAMP:20260422T204155
CREATED:20240319T205448Z
LAST-MODIFIED:20240319T210959Z
UID:1833-1728811800-1728828000@denduiker.nl
SUMMARY:Vrije rit
DESCRIPTION:
URL:https://denduiker.nl/event/vrije-rit-11/
CATEGORIES:Zondag
ATTACH;FMTTYPE=image/png:https://denduiker.nl/wp-content/uploads/2024/03/Vrije-rit.png
END:VEVENT
END:VCALENDAR