BEGIN:VCALENDAR
VERSION:2.0
PRODID:-//FC Den Duiker - ECPv6.2.8.2//NONSGML v1.0//EN
CALSCALE:GREGORIAN
METHOD:PUBLISH
X-ORIGINAL-URL:https://denduiker.nl
X-WR-CALDESC:Evenementen voor FC Den Duiker
REFRESH-INTERVAL;VALUE=DURATION:PT1H
X-Robots-Tag:noindex
X-PUBLISHED-TTL:PT1H
BEGIN:VTIMEZONE
TZID:UTC
BEGIN:STANDARD
TZOFFSETFROM:+0000
TZOFFSETTO:+0000
TZNAME:UTC
DTSTART:20240101T000000
END:STANDARD
END:VTIMEZONE
BEGIN:VEVENT
DTSTART;TZID=UTC:20240702T183000
DTEND;TZID=UTC:20240702T213000
DTSTAMP:20260422T041547
CREATED:20230724T095002Z
LAST-MODIFIED:20240319T202411Z
UID:1623-1719945000-1719955800@denduiker.nl
SUMMARY:Bessemer
DESCRIPTION:63 km – 270 hm
URL:https://denduiker.nl/event/bessemer/
CATEGORIES:Dinsdag
ATTACH;FMTTYPE=image/jpeg:https://denduiker.nl/wp-content/uploads/2023/10/bessemer_route.jpg
END:VEVENT
BEGIN:VEVENT
DTSTART;TZID=UTC:20240704T183000
DTEND;TZID=UTC:20240704T220000
DTSTAMP:20260422T041547
CREATED:20240320T070240Z
LAST-MODIFIED:20240320T070528Z
UID:1872-1720117800-1720130400@denduiker.nl
SUMMARY:Rondje Cottessen
DESCRIPTION:A 63 km – 630 hm en B 55 km – 490 hm
URL:https://denduiker.nl/event/rondje-cottessen/
CATEGORIES:Donderdag
ATTACH;FMTTYPE=image/png:https://denduiker.nl/wp-content/uploads/2024/03/Rondje-Cottessen.png
END:VEVENT
BEGIN:VEVENT
DTSTART;TZID=UTC:20240707T080000
DTEND;TZID=UTC:20240707T130000
DTSTAMP:20260422T041547
CREATED:20230724T102006Z
LAST-MODIFIED:20240319T202600Z
UID:1650-1720339200-1720357200@denduiker.nl
SUMMARY:Banneux
DESCRIPTION:102 km – 1018 hm
URL:https://denduiker.nl/event/banneux/
CATEGORIES:Zondag
ATTACH;FMTTYPE=image/jpeg:https://denduiker.nl/wp-content/uploads/2023/10/banneux.jpg
END:VEVENT
BEGIN:VEVENT
DTSTART;TZID=UTC:20240709T183000
DTEND;TZID=UTC:20240709T213000
DTSTAMP:20260422T041547
CREATED:20230724T101523Z
LAST-MODIFIED:20240319T202659Z
UID:1642-1720549800-1720560600@denduiker.nl
SUMMARY:Frombergroute
DESCRIPTION:62 km – 397 hm
URL:https://denduiker.nl/event/frombergroute/
CATEGORIES:Dinsdag
ATTACH;FMTTYPE=image/jpeg:https://denduiker.nl/wp-content/uploads/2023/10/fromberg.jpg
END:VEVENT
BEGIN:VEVENT
DTSTART;TZID=UTC:20240711T183000
DTEND;TZID=UTC:20240711T220000
DTSTAMP:20260422T041547
CREATED:20240320T070417Z
LAST-MODIFIED:20240320T070417Z
UID:1875-1720722600-1720735200@denduiker.nl
SUMMARY:Noorbeek - Voeren
DESCRIPTION:58 km – 460 hm
URL:https://denduiker.nl/event/noorbeek-voeren/
CATEGORIES:Donderdag
ATTACH;FMTTYPE=image/png:https://denduiker.nl/wp-content/uploads/2024/03/Noorbeek-Voeren.png
END:VEVENT
BEGIN:VEVENT
DTSTART;TZID=UTC:20240714T093000
DTEND;TZID=UTC:20240714T140000
DTSTAMP:20260422T041547
CREATED:20240319T202741Z
LAST-MODIFIED:20240319T211130Z
UID:1821-1720949400-1720965600@denduiker.nl
SUMMARY:Vrije rit
DESCRIPTION:
URL:https://denduiker.nl/event/vrije-rit-6/
CATEGORIES:Zondag
ATTACH;FMTTYPE=image/png:https://denduiker.nl/wp-content/uploads/2024/03/Vrije-rit.png
END:VEVENT
BEGIN:VEVENT
DTSTART;TZID=UTC:20240716T183000
DTEND;TZID=UTC:20240716T213000
DTSTAMP:20260422T041547
CREATED:20230724T100612Z
LAST-MODIFIED:20240319T202827Z
UID:1630-1721154600-1721165400@denduiker.nl
SUMMARY:Gulp en geuldal
DESCRIPTION:A 64 km – 370 hm en B 55 km – 330 hm
URL:https://denduiker.nl/event/gulp-en-geuldal/
CATEGORIES:Dinsdag
ATTACH;FMTTYPE=image/jpeg:https://denduiker.nl/wp-content/uploads/2023/10/gulp_geuldal_route.jpg
END:VEVENT
BEGIN:VEVENT
DTSTART;TZID=UTC:20240718T183000
DTEND;TZID=UTC:20240718T220000
DTSTAMP:20260422T041547
CREATED:20240320T070621Z
LAST-MODIFIED:20240320T070621Z
UID:1879-1721327400-1721340000@denduiker.nl
SUMMARY:Les Waides
DESCRIPTION:55 km – 410 hm
URL:https://denduiker.nl/event/les-waides/
CATEGORIES:Donderdag
ATTACH;FMTTYPE=image/png:https://denduiker.nl/wp-content/uploads/2024/03/Les-Waides.png
END:VEVENT
BEGIN:VEVENT
DTSTART;TZID=UTC:20240721T090000
DTEND;TZID=UTC:20240721T130000
DTSTAMP:20260422T041547
CREATED:20230724T101248Z
LAST-MODIFIED:20240319T202905Z
UID:1638-1721552400-1721566800@denduiker.nl
SUMMARY:Jokerstour
DESCRIPTION:80 km – 890 hm
URL:https://denduiker.nl/event/jokerstour/
CATEGORIES:Zondag
ATTACH;FMTTYPE=image/jpeg:https://denduiker.nl/wp-content/uploads/2023/10/jokerstour.jpg
END:VEVENT
BEGIN:VEVENT
DTSTART;TZID=UTC:20240723T183000
DTEND;TZID=UTC:20240723T213000
DTSTAMP:20260422T041547
CREATED:20230724T100914Z
LAST-MODIFIED:20240319T204815Z
UID:1634-1721759400-1721770200@denduiker.nl
SUMMARY:Holland Bolland
DESCRIPTION:A 64 km – 587 hm en B 52 km – 452 hm
URL:https://denduiker.nl/event/holland-bolland/
CATEGORIES:Dinsdag
ATTACH;FMTTYPE=image/jpeg:https://denduiker.nl/wp-content/uploads/2023/10/holland_bolland_route.jpg
END:VEVENT
BEGIN:VEVENT
DTSTART;TZID=UTC:20240725T183000
DTEND;TZID=UTC:20240725T220000
DTSTAMP:20260422T041547
CREATED:20240320T070730Z
LAST-MODIFIED:20240320T070730Z
UID:1882-1721932200-1721944800@denduiker.nl
SUMMARY:Rondje Pondje
DESCRIPTION:53 km – 160 hm
URL:https://denduiker.nl/event/rondje-pondje/
CATEGORIES:Donderdag
ATTACH;FMTTYPE=image/png:https://denduiker.nl/wp-content/uploads/2024/03/Rondje-Pontje.png
END:VEVENT
BEGIN:VEVENT
DTSTART;TZID=UTC:20240728T093000
DTEND;TZID=UTC:20240728T140000
DTSTAMP:20260422T041547
CREATED:20240319T203023Z
LAST-MODIFIED:20240319T211108Z
UID:1823-1722159000-1722175200@denduiker.nl
SUMMARY:Vrije rit
DESCRIPTION:
URL:https://denduiker.nl/event/vrije-rit-7/
CATEGORIES:Zondag
ATTACH;FMTTYPE=image/png:https://denduiker.nl/wp-content/uploads/2024/03/Vrije-rit.png
END:VEVENT
BEGIN:VEVENT
DTSTART;TZID=UTC:20240730T090000
DTEND;TZID=UTC:20240730T130000
DTSTAMP:20260422T041547
CREATED:20230724T101025Z
LAST-MODIFIED:20240319T203314Z
UID:1636-1722330000-1722344400@denduiker.nl
SUMMARY:Ingber
DESCRIPTION:A 59 km – 523 hm en B 54 km – 479 hm
URL:https://denduiker.nl/event/ingber/
CATEGORIES:Dinsdag
ATTACH;FMTTYPE=image/jpeg:https://denduiker.nl/wp-content/uploads/2023/10/Ingber_route.jpg
END:VEVENT
END:VCALENDAR